BEGIN:VCALENDAR
VERSION:2.0
PRODID:-//Proyecto Raices - ECPv6.15.20//NONSGML v1.0//EN
CALSCALE:GREGORIAN
METHOD:PUBLISH
X-WR-CALNAME:Proyecto Raices
X-ORIGINAL-URL:https://proyectoraicescla.org
X-WR-CALDESC:Events for Proyecto Raices
REFRESH-INTERVAL;VALUE=DURATION:PT1H
X-Robots-Tag:noindex
X-PUBLISHED-TTL:PT1H
BEGIN:VTIMEZONE
TZID:UTC
BEGIN:STANDARD
TZOFFSETFROM:+0000
TZOFFSETTO:+0000
TZNAME:UTC
DTSTART:20230101T000000
END:STANDARD
END:VTIMEZONE
BEGIN:VEVENT
DTSTART;TZID=UTC:20241005T160000
DTEND;TZID=UTC:20241005T210000
DTSTAMP:20260424T154205
CREATED:20240829T014708Z
LAST-MODIFIED:20240829T223002Z
UID:1447-1728144000-1728162000@proyectoraicescla.org
SUMMARY:Akron Latin Festival October 5\, 2024
DESCRIPTION:*** NEW DATE *** \nWhen: Saturday\, October 5\, 2024 \nTime: 4:00 PM until 9::00 PM \nWhere: Cascade Plaza 122 South Main St. Akron\, OH \n 
URL:https://proyectoraicescla.org/event/akron-latin-festival/
LOCATION:Cascade Plaza\, 122 S. MAIN ST\, AKRON\, OH\, 44308
ATTACH;FMTTYPE=image/jpeg:https://proyectoraicescla.org/wp-content/uploads/2024/08/Akron-Latin-Festival.jpg
END:VEVENT
BEGIN:VEVENT
DTSTART;TZID=UTC:20240907T100000
DTEND;TZID=UTC:20240907T120000
DTSTAMP:20260424T154205
CREATED:20240829T221920Z
LAST-MODIFIED:20240829T221920Z
UID:1455-1725703200-1725710400@proyectoraicescla.org
SUMMARY:Sept. 7th Sabado Event
DESCRIPTION:**IMPORTANT UPDATE:**\n\n\n\nThe first Sabado Program on “Saturday\, September 7th” has moved to Harris-Jackson CLC due to renovations at our 915 N. Main St location. Join us from 10:00 AM to 12:00 PM.\n\n\n\nAFTERWARDS: After Sabado Program\, friends and families are invited to the #CantonLatinFestival from Noon to 10:00 PM. See you there!
URL:https://proyectoraicescla.org/event/sept-7th-sabado-event/
LOCATION:Harris-Jackson CLC\, Akron\, OH
ATTACH;FMTTYPE=image/png:https://proyectoraicescla.org/wp-content/uploads/2024/08/sabado7th-1.png
END:VEVENT
BEGIN:VEVENT
DTSTART;TZID=UTC:20240830T080000
DTEND;TZID=UTC:20240830T170000
DTSTAMP:20260424T154205
CREATED:20240830T004745Z
LAST-MODIFIED:20240830T004745Z
UID:1475-1725004800-1725037200@proyectoraicescla.org
SUMMARY:2024 - 2025 Sabado Program Announced
DESCRIPTION:
URL:https://proyectoraicescla.org/event/2024-2025-sabado-program-announced/
ATTACH;FMTTYPE=image/png:https://proyectoraicescla.org/wp-content/uploads/2024/08/ENG.png
END:VEVENT
END:VCALENDAR