BEGIN:VCALENDAR
VERSION:2.0
PRODID:-//Proyecto Raices - ECPv6.15.20//NONSGML v1.0//EN
CALSCALE:GREGORIAN
METHOD:PUBLISH
X-WR-CALNAME:Proyecto Raices
X-ORIGINAL-URL:https://proyectoraicescla.org
X-WR-CALDESC:Events for Proyecto Raices
REFRESH-INTERVAL;VALUE=DURATION:PT1H
X-Robots-Tag:noindex
X-PUBLISHED-TTL:PT1H
BEGIN:VTIMEZONE
TZID:UTC
BEGIN:STANDARD
TZOFFSETFROM:+0000
TZOFFSETTO:+0000
TZNAME:UTC
DTSTART:20240101T000000
END:STANDARD
END:VTIMEZONE
BEGIN:VEVENT
DTSTART;TZID=UTC:20250920T140000
DTEND;TZID=UTC:20250920T210000
DTSTAMP:20260424T071318
CREATED:20250701T211110Z
LAST-MODIFIED:20250801T151339Z
UID:1663-1758376800-1758402000@proyectoraicescla.org
SUMMARY:Raices\, Ritmos & Recuerdos: Akron Latin Festival 2025
DESCRIPTION:Date: Saturday September 20\, 2025 \nLocation: Lock 3 200 S Main Street \nDetails: We’re excited to announce the 5th Annual Akron Latin Festival – Raíces\, Ritmos & Recuerdos🎉\nCome celebrate Latin culture with us through live music\, traditional food\, dancing\, family fun\, and more! \n🎶🌮💃🪘 \n✨ FREE and open to all ages! \n\n#AkronLatinFestival #RaicesRitmosRecuerdos #Lock3Akron #LatinxCulture
URL:https://proyectoraicescla.org/event/raices-ritmos-recuerdos-akron-latin-festival-2025/
ATTACH;FMTTYPE=image/png:https://proyectoraicescla.org/wp-content/uploads/2025/07/Sept-20-2025.png
END:VEVENT
BEGIN:VEVENT
DTSTART;TZID=UTC:20260407T180000
DTEND;TZID=UTC:20260407T200000
DTSTAMP:20260424T071318
CREATED:20260219T161741Z
LAST-MODIFIED:20260219T162148Z
UID:1878-1775584800-1775592000@proyectoraicescla.org
SUMMARY:Lotería Night Fundraiser April 7\, 2026
DESCRIPTION:Lotería Night Fundraiser – hors d’oeuvres\, drinks\, games\, prizes\, and community—supporting Proyecto Raíces. Tues. April 7. Limited seating.\n\n\n\n\n\n\n\n\nLotería Night Fundraiser\nProyecto Raíces\, in partnership with First Serve\, invites you to join us for a lively Lotería Night Fundraiser featuring traditional games\, drinks\, heavy hors d’oeuvres\, prizes\, and a special mid-event recognition honoring three individuals for their impact on the Hispanic/Latine community. \n \n—————————————————– \nTickets – Individual Admission\n$60 + Eventbrite processing fees \nIncludes: \n\nHeavy hors d’oeuvres\nOne drink per ticket\nOne Lotería card\nCash bar available\n\nQuestions? Email us at proyectoraicescla@gmail.com \n*Individual admission tickets can be purchased HERE. \nSponsorship Opportunities\nSupport Proyecto Raíces while gaining visibility at our event! \n\n$200 Sponsor – Logo in program booklet + 1 ticket\n$500 Sponsor – Logo in program booklet + 2 tickets\n$1\,000 Sponsor – Quarter-page ad in program booklet + reserved table with 6 tickets\n\nInterested in sponsoring? Purchase through Qgiv or contact us for details. Sponsorships are available here: SPONSOR \nFor sponsorship questions\, contact proyectoraicescla@gmail.com \n—————————————————– \nWhat to Expect\n\nA lively\, welcoming atmosphere\nSeveral rounds of Lotería\nPrizes from local restaurants\nRaffles prized baskets\nSpecial recognition celebrating outstanding Hispanic/Latine community members\n\nWhy Attend\nGreat food\, great company\, and a great cause. Your ticket supports Proyecto Raíces and programs that serve and enrich our Hispanic/Latine community. Come enjoy a fun night of Lotería\, connection\, and giving back. \n————— \nSponsorship tickets must be purchased through Qgiv here: SPONSOR\nContact: For questions about tickets\, sponsorships\, or the event\, please email proyectoraicescla@gmail.com.
URL:https://proyectoraicescla.org/event/loteria-night-fundraiser-april-7-2026/
ATTACH;FMTTYPE=image/jpeg:https://proyectoraicescla.org/wp-content/uploads/2026/02/Loteria.jpg
END:VEVENT
END:VCALENDAR